BEGIN:VCALENDAR
VERSION:2.0
PRODID:-//eventon.com NONSGML v1.0//EN
CALSCALE:GREGORIAN
METHOD:PUBLISH
BEGIN:VEVENT
UID:69e9ec37056fd
DTSTAMP:20260423T095359Z
DTSTART:20250319
DTEND:20250320
LOCATION:
SUMMARY:Next Block Expo
DESCRIPTION:\nhttps://blockchain-mittweida.com/events/5117/
URL:https://blockchain-mittweida.com/events/5117/
END:VEVENT
END:VCALENDAR