BEGIN:VCALENDAR
VERSION:2.0
PRODID:-//eventon.com NONSGML v1.0//EN
CALSCALE:GREGORIAN
METHOD:PUBLISH
BEGIN:VEVENT
UID:69e83f9f9ab58
DTSTAMP:20260422T032519Z
DTSTART:20240606T110000Z
DTEND:20240606T133000Z
LOCATION:
SUMMARY:Sommerfest MWE
DESCRIPTION:\nhttps://blockchain-mittweida.com/events/sommerfest-mwe/
URL:https://blockchain-mittweida.com/events/sommerfest-mwe/
END:VEVENT
END:VCALENDAR